{"text_format":"1","workbook":"xlsx","n_sheets":3,"sheets":["Group Stage","Playoffs_CQ","Playoffs_custom"],"not_rendered":{"charts":0,"images":0,"macros":1,"external_links":0,"defined_names":0,"comments":0,"pivot_tables":0},"unopened":[],"bounds":{"document_bytes":16777216,"sheet_cells":100000,"rows_first":2000,"rows_last":500,"rows_between":2000,"halvings":0,"cell_chars":16384,"cell_head_chars":4096},"cells_cut":0,"cells_raw":0,"read":"whole","date_system":"1900"}

{"sheet":"Group Stage","index":0,"n_rows":34,"n_cols":26,"rows_kept":34,"cut":false,"hidden":false,"merged":[]}
[null,"Group A",null,null,null,null,null,null,null,null,null,null,"Group A"]
["#","Name","D",null,null,null,"D","Participants",null,null,"Result",null,"Matches",null,null,"Result",null,null,null,null,null,null,"A1","CQ",1,5]
["A1",{"$f":"IF(C3=0,\" \",VLOOKUP(C3,$G$3:$I$6,2,FALSE))","v":" "},{"$f":"LARGE($G$3:$G$6,1)","v":0},null,null,null,{"$f":"SUMIF($L$3:$L$7,H3,$K$3:$K$7)+SUMIF($O$3:$O$7,H3,$P$3:$P$7)-SUMIF($L$3:$L$7,H3,$P$3:$P$7)-SUMIF($O$3:$O$7,H3,$K$3:$K$7)","v":0},"TNC",null,null,{"$f":"IF(M3=2,1,0)","v":0},"TNC",0,0,"Nigma",{"$f":"IF(N3=2,1,0)","v":0},"Opening Matches",null,null,null,null,null,"A2","KL",2,6]
["A2",{"$f":"IF(C4=0,\" \",VLOOKUP(C4,$G$3:$I$6,2,FALSE))","v":" "},{"$f":"LARGE($G$3:$G$6,2)","v":0},null,null,null,{"$f":"SUMIF($L$3:$L$7,H4,$K$3:$K$7)+SUMIF($O$3:$O$7,H4,$P$3:$P$7)-SUMIF($L$3:$L$7,H4,$P$3:$P$7)-SUMIF($O$3:$O$7,H4,$K$3:$K$7)","v":0},"Nigma",null,null,{"$f":"IF(M4=2,1,0)","v":0},"Fnatic",0,0,"Team Aster",{"$f":"IF(N4=2,1,0)","v":0},null,null,null,null,null,null,"A3",null,3]
["A3"," ",{"$f":"LARGE($G$3:$G$6,3)","v":0},null,null,null,0,"Team Aster",null,null,0,{"$f":"IF(AND($M$3=0,$N$3=0),\" \",IF(($M$3>$N$3),$L$3,$O$3))","v":" "},0,0,{"$f":"IF(AND($M$4=0,$N$4=0),\" \",IF(($M$4>$N$4),$L$4,$O$4))","v":" "},0,"Winners' Match",null,null,null,null,null,"A4",null,4]
["A4"," ",{"$f":"LARGE($G$3:$G$6,4)","v":0},null,null,null,0,"Fnatic",null,null,0,{"$f":"IF(AND($M$3=0,$N$3=0),\" \",IF(($M$3>$N$3),$O$3,$L$3))","v":" "},0,0,{"$f":"IF(AND($M$4=0,$N$4=0),\" \",IF(($M$4>$N$4),$O$4,$L$4))","v":" "},0,"Losers' Match",null,null,null,null,null,"B1"]
[null,null,null,null,null,null,null,null,null,null,0,{"$f":"IF(AND($M$5=0,$N$5=0),\" \",IF(($M$5>$N$5),$O$5,$L$5))","v":" "},0,0,{"$f":"IF(AND($M$6=0,$N$6=0),\" \",IF(($M$6>$N$6),$L$6,$O$6))","v":" "},0,"Decider Match",null,null,null,null,null,"B2"]
[null,null,null,null,null,null,null,null,null,null,null,null,null,null,null,null,null,null,null,null,null,null,"B3"]
[null,null,null,null,null,null,null,null,null,null,null,null,null,null,null,null,null,null,null,null,null,null,"B4"]
[null,"Group B",null,null,null,null,null,null,null,null,null,null,"Group B",null,null,null,null,null,null,null,null,null,"C1"]
["#","Name","D",null,null,null,"D","Participants",null,null,"Result",null,"Matches",null,null,"Result",null,null,null,null,null,null,"C2"]
["B1",{"$f":"IF(C12=0,\" \",VLOOKUP(C12,$G$12:$I$15,2,FALSE))","v":" "},{"$f":"LARGE($G$12:$G$15,1)","v":0},null,null,null,{"$f":"SUMIF($L$12:$L$16,H12,$K$12:$K$16)+SUMIF($O$12:$O$16,H12,$P$12:$P$16)-SUMIF($L$12:$L$16,H12,$P$12:$P$16)-SUMIF($O$12:$O$16,H12,$K$12:$K$16)","v":0},"beastcoast",null,null,{"$f":"IF(M12=2,1,0)","v":0},"VG",0,0,"Secret",{"$f":"IF(N12=2,1,0)","v":0},"Opening Matches",null,null,null,null,null,"C3"]
["B2",{"$f":"IF(C13=0,\" \",VLOOKUP(C13,$G$12:$I$15,2,FALSE))","v":" "},{"$f":"LARGE($G$12:$G$15,2)","v":0},null,null,null,{"$f":"SUMIF($L$12:$L$16,H13,$K$12:$K$16)+SUMIF($O$12:$O$16,H13,$P$12:$P$16)-SUMIF($L$12:$L$16,H13,$P$12:$P$16)-SUMIF($O$12:$O$16,H13,$K$12:$K$16)","v":0},"Chaos",null,null,{"$f":"IF(M13=2,1,0)","v":0},"beastcoast",0,0,"Chaos",{"$f":"IF(N13=2,1,0)","v":0},null,null,null,null,null,null,"C4"]
["B3"," ",{"$f":"LARGE($G$12:$G$15,3)","v":0},null,null,null,0,"VG",null,null,0,{"$f":"IF(AND($M$12=0,$N$12=0),\" \",IF(($M$12>$N$12),$L$12,$O$12))","v":" "},0,0,{"$f":"IF(AND($M$13=0,$N$13=0),\" \",IF(($M$13>$N$13),$L$13,$O$13))","v":" "},0,"Winners' Match",null,null,null,null,null,"D1"]
["B4"," ",{"$f":"LARGE($G$12:$G$15,4)","v":0},null,null,null,0,"Secret",null,null,0,{"$f":"IF(AND($M$12=0,$N$12=0),\" \",IF(($M$12>$N$12),$O$12,$L$12))","v":" "},0,0,{"$f":"IF(AND($M$13=0,$N$13=0),\" \",IF(($M$13>$N$13),$O$13,$L$13))","v":" "},0,"Losers' Match",null,null,null,null,null,"D2"]
[null,null,null,null,null,null,null,null,null,null,0,{"$f":"IF(AND($M$14=0,$N$14=0),\" \",IF(($M$14>$N$14),$O$14,$L$14))","v":" "},0,0,{"$f":"IF(AND($M$15=0,$N$15=0),\" \",IF(($M$15>$N$15),$L$15,$O$15))","v":" "},0,"Decider Match",null,null,null,null,null,"D3"]
[null,null,null,null,null,null,null,null,null,null,null,null,null,null,null,null,null,null,null,null,null,null,"D4"]
[]
[null,"Group C",null,null,null,null,null,null,null,null,null,null,"Group C"]
["#","Name","D",null,null,null,"D","Participants",null,null,"Result",null,"Matches",null,null,"Result"]
["C1",{"$f":"IF(C21=0,\" \",VLOOKUP(C21,$G$21:$I$24,2,FALSE))","v":" "},{"$f":"LARGE($G$21:$G$24,1)","v":0},null,null,null,{"$f":"SUMIF($L$21:$L$25,H21,$K$21:$K$25)+SUMIF($O$21:$O$25,H21,$P$21:$P$25)-SUMIF($L$21:$L$25,H21,$P$21:$P$25)-SUMIF($O$21:$O$25,H21,$K$21:$K$25)","v":0},"Alliance",null,null,{"$f":"IF(M21=2,1,0)","v":0},"IG",0,0,"Reaity",{"$f":"IF(N21=2,1,0)","v":0},"Opening Matches"]
["C2",{"$f":"IF(C22=0,\" \",VLOOKUP(C22,$G$21:$I$24,2,FALSE))","v":" "},{"$f":"LARGE($G$21:$G$24,2)","v":0},null,null,null,{"$f":"SUMIF($L$21:$L$25,H22,$K$21:$K$25)+SUMIF($O$21:$O$25,H22,$P$21:$P$25)-SUMIF($L$21:$L$25,H22,$P$21:$P$25)-SUMIF($O$21:$O$25,H22,$K$21:$K$25)","v":0},"IG",null,null,{"$f":"IF(M22=2,1,0)","v":0},"Alliance",0,0,"Virtus Pro",{"$f":"IF(N22=2,1,0)","v":0}]
["C3"," ",{"$f":"LARGE($G$21:$G$24,3)","v":0},null,null,null,0,"Reaity",null,null,0,{"$f":"IF(AND($M$21=0,$N$21=0),\" \",IF(($M$21>$N$21),$L$21,$O$21))","v":" "},0,0,{"$f":"IF(AND($M$22=0,$N$22=0),\" \",IF(($M$22>$N$22),$L$22,$O$22))","v":" "},0,"Winners' Match"]
["C4"," ",{"$f":"LARGE($G$21:$G$24,4)","v":0},null,null,null,0,"Virtus Pro",null,null,0,{"$f":"IF(AND($M$21=0,$N$21=0),\" \",IF(($M$21>$N$21),$O$21,$L$21))","v":" "},0,0,{"$f":"IF(AND($M$22=0,$N$22=0),\" \",IF(($M$22>$N$22),$O$22,$L$22))","v":" "},0,"Losers' Match"]
[null,null,null,null,null,null,null,null,null,null,0,{"$f":"IF(AND($M$23=0,$N$23=0),\" \",IF(($M$23>$N$23),$O$23,$L$23))","v":" "},0,0,{"$f":"IF(AND($M$24=0,$N$24=0),\" \",IF(($M$24>$N$24),$L$24,$O$24))","v":" "},0,"Decider Match"]
[]
[]
[null,"Group D",null,null,null,null,null,null,null,null,null,null,"Group D"]
["#","Name","D",null,null,null,"D","Participants",null,null,"Result",null,"Matches",null,null,"Result"]
["D1",{"$f":"IF(C30=0,\" \",VLOOKUP(C30,$G$30:$I$33,2,FALSE))","v":" "},{"$f":"LARGE($G$30:$G$33,1)","v":0},null,null,null,{"$f":"SUMIF($L$30:$L$34,H30,$K$30:$K$34)+SUMIF($O$30:$O$34,H30,$P$30:$P$34)-SUMIF($L$30:$L$34,H30,$P$30:$P$34)-SUMIF($O$30:$O$34,H30,$K$30:$K$34)","v":0},"EG",null,null,{"$f":"IF(M30=2,1,0)","v":0},"EG",0,0,"Na'Vi",{"$f":"IF(N30=2,1,0)","v":0},"Opening Matches"]
["D2",{"$f":"IF(C31=0,\" \",VLOOKUP(C31,$G$30:$I$33,2,FALSE))","v":" "},{"$f":"LARGE($G$30:$G$33,2)","v":0},null,null,null,{"$f":"SUMIF($L$30:$L$34,H31,$K$30:$K$34)+SUMIF($O$30:$O$34,H31,$P$30:$P$34)-SUMIF($L$30:$L$34,H31,$P$30:$P$34)-SUMIF($O$30:$O$34,H31,$K$30:$K$34)","v":0},"Na'Vi",null,null,{"$f":"IF(M31=2,1,0)","v":0},"Team Liquid",0,0,"Pain",{"$f":"IF(N31=2,1,0)","v":0}]
["D3"," ",{"$f":"LARGE($G$30:$G$33,3)","v":0},null,null,null,{"$f":"SUMIF($L$30:$L$34,H32,$K$30:$K$34)+SUMIF($O$30:$O$34,H32,$P$30:$P$34)-SUMIF($L$30:$L$34,H32,$P$30:$P$34)-SUMIF($O$30:$O$34,H32,$K$30:$K$34)","v":0},"Pain",null,null,0,{"$f":"IF(AND($M$30=0,$N$30=0),\" \",IF(($M$30>$N$30),$L$30,$O$30))","v":" "},0,0,{"$f":"IF(AND($M$31=0,$N$31=0),\" \",IF(($M$31>$N$31),$L$31,$O$31))","v":" "},0,"Winners' Match"]
["D4"," ",{"$f":"LARGE($G$30:$G$33,4)","v":0},null,null,null,0,"Team Liquid",null,null,0,{"$f":"IF(AND($M$30=0,$N$30=0),\" \",IF(($M$30>$N$30),$O$30,$L$30))","v":" "},0,0,{"$f":"IF(AND($M$31=0,$N$31=0),\" \",IF(($M$31>$N$31),$O$31,$L$31))","v":" "},0,"Losers' Match"]
[null,null,null,null,null,null,null,null,null,null,0,{"$f":"IF(AND($M$32=0,$N$32=0),\" \",IF(($M$32>$N$32),$O$32,$L$32))","v":" "},0,0,{"$f":"IF(AND($M$33=0,$N$33=0),\" \",IF(($M$33>$N$33),$L$33,$O$33))","v":" "},0,"Decider Match"]

{"sheet":"Playoffs_CQ","index":1,"n_rows":46,"n_cols":25,"rows_kept":46,"cut":false,"hidden":false,"merged":[]}
["Cnongqing"]
[null,null,null,null,null,null,"UB R1 Bo3",null,null,null,null,null,"UB R2 Bo3",null,null,null,null,null,"UB Finals Bo3",null,null,"Grand Finals Bo5"]
[]
[null,null,null,null,1,"B1",{"$f":"VLOOKUP(F4,'Group Stage'!$A$2:$B$33,2,FALSE)","v":" "},0]
[null,null,null,null,null,"C2",{"$f":"VLOOKUP(F5,'Group Stage'!$A$2:$B$33,2,FALSE)","v":" "},2]
[null,null,null,null,null,null,null,null,null,null,null,5,{"$f":"IF(AND(H4=0,H5=0),\" \",IF(H4>H5,G4,G5))","v":" "},1]
[null,null,null,null,2,"A1",{"$f":"VLOOKUP(F7,'Group Stage'!$A$2:$B$33,2,FALSE)","v":" "},0,null,null,null,null,{"$f":"IF(AND(H7=0,H8=0),\" \",IF(H7>H8,G7,G8))","v":" "},2]
[null,null,null,null,null,"D2",{"$f":"VLOOKUP(F8,'Group Stage'!$A$2:$B$33,2,FALSE)","v":" "},2]
[null,null,null,null,null,null,null,null,null,null,null,null,null,null,null,null,null,7,{"$f":"IF(AND(N6=0,N7=0),\" \",IF(N6>N7,M6,M7))","v":" "},1]
[null,null,null,null,3,"D1",{"$f":"VLOOKUP(F10,'Group Stage'!$A$2:$B$33,2,FALSE)","v":" "},0,null,null,null,null,null,null,null,null,null,null,{"$f":"IF(AND(N12=0,N13=0),\" \",IF(N12>N13,M12,M13))","v":" "},2]
[null,null,null,null,null,"A2",{"$f":"VLOOKUP(F11,'Group Stage'!$A$2:$B$33,2,FALSE)","v":" "},2]
[null,null,null,null,null,null,null,null,null,null,null,6,{"$f":"IF(AND(H10=0,H11=0),\" \",IF(H10>H11,G10,G11))","v":" "},0]
[null,null,null,null,4,"C1",{"$f":"VLOOKUP(F13,'Group Stage'!$A$2:$B$33,2,FALSE)","v":" "},2,null,null,null,null,{"$f":"IF(AND(H13=0,H14=0),\" \",IF(H13>H14,G13,G14))","v":" "},2,null,null,null,null,null,null,null,{"$f":"IF(AND(T9=0,T10=0),\" \",IF(T9>T10,S9,S10))","v":" "},3]
[null,null,null,null,null,"B2",{"$f":"VLOOKUP(F14,'Group Stage'!$A$2:$B$33,2,FALSE)","v":" "},0,null,null,null,null,null,null,null,null,null,null,null,null,null,{"$f":"IF(AND(T21=0,T22=0),\" \",IF(T21>T22,S21,S22))","v":" "},1,null,{"$f":"IF(AND(W13=0,W14=0),\" \",IF(W13>W14,V13,V14))","v":" "}]
[]
[null,null,"LB R1 Bo1",null,null,null,"LB R2 Bo3",null,null,"LB R3 Bo3",null,null,"LB R4 Bo3",null,null,"LB R5 Bo3",null,null,"LB Finals Bo3"]
[]
[null,null,null,null,null,null,"Loser of 1",null,null,null,null,null,"Loser of 6"]
[null,null,null,null,null,null,{"$f":"IF(AND(H4=0,H5=0),\" \",IF(H4>H5,G5,G4))","v":" "},2,null,null,null,null,{"$f":"IF(AND(N12=0,N13=0),\" \",IF(N12>N13,M13,M12))","v":" "},0]
[null,"D3",{"$f":"VLOOKUP(B20,'Group Stage'!$A$2:$B$33,2,FALSE)","v":" "},0,null,null,{"$f":"IF(AND(D20=0,D21=0),\" \",IF(D20>D21,C20,C21))","v":" "},0,null,{"$f":"IF(AND(H19=0,H20=0),\" \",IF(H19>H20,G19,G20))","v":" "},1,null,{"$f":"IF(AND(K20=0,K21=0),\" \",IF(K20>K21,J20,J21))","v":" "},2,null,null,null,null,"Loser of 7"]
[null,"A4",{"$f":"VLOOKUP(B21,'Group Stage'!$A$2:$B$33,2,FALSE)","v":" "},1,null,null,"Loser of 2",null,null,{"$f":"IF(AND(H22=0,H23=0),\" \",IF(H22>H23,G22,G23))","v":" "},2,null,null,null,null,null,null,null,{"$f":"IF(AND(T9=0,T10=0),\" \",IF(T9>T10,S10,S9))","v":" "},0]
[null,null,null,null,null,null,{"$f":"IF(AND(H7=0,H8=0),\" \",IF(H7>H8,G8,G7))","v":" "},2,null,null,null,null,null,null,null,{"$f":"IF(AND(N19=0,N20=0),\" \",IF(N19>N20,M19,M20))","v":" "},0,null,{"$f":"IF(AND(Q22=0,Q23=0),\" \",IF(Q22>Q23,P22,P23))","v":" "},2]
[null,"C3",{"$f":"VLOOKUP(B23,'Group Stage'!$A$2:$B$33,2,FALSE)","v":" "},0,null,null,{"$f":"IF(AND(D23=0,D24=0),\" \",IF(D23>D24,C23,C24))","v":" "},1,null,null,null,null,null,null,null,{"$f":"IF(AND(N25=0,N26=0),\" \",IF(N25>N26,M25,M26))","v":" "},2]
[null,"B4",{"$f":"VLOOKUP(B24,'Group Stage'!$A$2:$B$33,2,FALSE)","v":" "},1,null,null,"Loser of 3",null,null,null,null,null,"Loser of 5"]
[null,null,null,null,null,null,{"$f":"IF(AND(H10=0,H11=0),\" \",IF(H10>H11,G11,G10))","v":" "},1,null,null,null,null,{"$f":"IF(AND(N6=0,N7=0),\" \",IF(N6>N7,M7,M6))","v":" "},2]
[null,"B3",{"$f":"VLOOKUP(B26,'Group Stage'!$A$2:$B$33,2,FALSE)","v":" "},0,null,null,{"$f":"IF(AND(D26=0,D27=0),\" \",IF(D26>D27,C26,C27))","v":" "},2,null,{"$f":"IF(AND(H25=0,H26=0),\" \",IF(H25>H26,G25,G26))","v":" "},0,null,{"$f":"IF(AND(K26=0,K27=0),\" \",IF(K26>K27,J26,J27))","v":" "},0]
[null,"C4",{"$f":"VLOOKUP(B27,'Group Stage'!$A$2:$B$33,2,FALSE)","v":" "},1,null,null,"Loser of 4",null,null,{"$f":"IF(AND(H28=0,H29=0),\" \",IF(H28>H29,G28,G29))","v":" "},2]
[null,null,null,null,null,null,{"$f":"IF(AND(H13=0,H14=0),\" \",IF(H13>H14,G14,G13))","v":" "},0]
[null,"A3",{"$f":"VLOOKUP(B29,'Group Stage'!$A$2:$B$33,2,FALSE)","v":" "},0,null,null,{"$f":"IF(AND(D29=0,D30=0),\" \",IF(D29>D30,C29,C30))","v":" "},2]
[null,"D4",{"$f":"VLOOKUP(B30,'Group Stage'!$A$2:$B$33,2,FALSE)","v":" "},1,null,null,null,null,null,null,null,null,null,null,null,"Standings"]
[null,null,null,null,null,null,null,null,null,null,null,null,null,null,"1st",{"$f":"Y14","v":" "}]
[null,null,null,null,null,null,null,null,null,null,null,null,null,null,"2nd",{"$f":"IF(V13=Y14,V14,V13)","v":" "}]
[null,null,null,null,null,null,null,null,null,null,null,null,null,null,"3rd",{"$f":"IF(T21>T22,S22,S21)","v":" "}]
[null,null,null,null,null,null,null,null,null,null,null,null,null,null,"4th",{"$f":"IF(Q22>Q23,P23,P22)","v":" "}]
[null,null,null,null,null,null,null,null,null,null,null,null,null,null,"5th-6th",{"$f":"IF(N19>N20,M20,M19)","v":" "}]
[null,null,null,null,null,null,null,null,null,null,null,null,null,null,"5th-6th",{"$f":"IF(N25>N26,M26,M25)","v":" "}]
[null,null,null,null,null,null,null,null,null,null,null,null,null,null,"7th-8th",{"$f":"IF(K20>K21,J21,J20)","v":" "}]
[null,null,null,null,null,null,null,null,null,null,null,null,null,null,"7th-8th",{"$f":"IF(K26>K27,J27,J26)","v":" "}]
[null,null,null,null,null,null,null,null,null,null,null,null,null,null,"9th-12th",{"$f":"IF(H19>H20,G20,G19)","v":" "}]
[null,null,null,null,null,null,null,null,null,null,null,null,null,null,"9th-12th",{"$f":"IF(H22>H23,G23,G22)","v":" "}]
[null,null,null,null,null,null,null,null,null,null,null,null,null,null,"9th-12th",{"$f":"IF(H25>H26,G26,G25)","v":" "}]
[null,null,null,null,null,null,null,null,null,null,null,null,null,null,"9th-12th",{"$f":"IF(H28>H29,G29,G28)","v":" "}]
[null,null,null,null,null,null,null,null,null,null,null,null,null,null,"13th-16th",{"$f":"IF(D20>D21,C21,C20)","v":" "}]
[null,null,null,null,null,null,null,null,null,null,null,null,null,null,"13th-16th",{"$f":"IF(D23>D24,C24,C23)","v":" "}]
[null,null,null,null,null,null,null,null,null,null,null,null,null,null,"13th-16th",{"$f":"IF(D26>D27,C27,C26)","v":" "}]
[null,null,null,null,null,null,null,null,null,null,null,null,null,null,"13th-16th",{"$f":"IF(D29>D30,C30,C29)","v":" "}]

{"sheet":"Playoffs_custom","index":2,"n_rows":46,"n_cols":25,"rows_kept":46,"cut":false,"hidden":false,"merged":[]}
["Custom"]
[null,null,null,null,null,null,"UB R1 Bo3",null,null,null,null,null,"UB R2 Bo3",null,null,null,null,null,"UB Finals Bo3",null,null,"Grand Finals Bo5"]
[]
[null,null,null,null,1,"A1",{"$f":"VLOOKUP(F4,'Group Stage'!$A$2:$B$33,2,FALSE)","v":" "},2]
[null,null,null,null,null,"B2",{"$f":"VLOOKUP(F5,'Group Stage'!$A$2:$B$33,2,FALSE)","v":" "},1]
[null,null,null,null,null,null,null,null,null,null,null,5,{"$f":"IF(AND(H4=0,H5=0),\" \",IF(H4>H5,G4,G5))","v":" "},1]
[null,null,null,null,2,"A2",{"$f":"VLOOKUP(F7,'Group Stage'!$A$2:$B$33,2,FALSE)","v":" "},2,null,null,null,null,{"$f":"IF(AND(H7=0,H8=0),\" \",IF(H7>H8,G7,G8))","v":" "},2]
[null,null,null,null,null,"B1",{"$f":"VLOOKUP(F8,'Group Stage'!$A$2:$B$33,2,FALSE)","v":" "},0]
[null,null,null,null,null,null,null,null,null,null,null,null,null,null,null,null,null,7,{"$f":"IF(AND(N6=0,N7=0),\" \",IF(N6>N7,M6,M7))","v":" "},2]
[null,null,null,null,3,"C1",{"$f":"VLOOKUP(F10,'Group Stage'!$A$2:$B$33,2,FALSE)","v":" "},0,null,null,null,null,null,null,null,null,null,null,{"$f":"IF(AND(N12=0,N13=0),\" \",IF(N12>N13,M12,M13))","v":" "},1]
[null,null,null,null,null,"D2",{"$f":"VLOOKUP(F11,'Group Stage'!$A$2:$B$33,2,FALSE)","v":" "},2]
[null,null,null,null,null,null,null,null,null,null,null,6,{"$f":"IF(AND(H10=0,H11=0),\" \",IF(H10>H11,G10,G11))","v":" "},0]
[null,null,null,null,4,"C2",{"$f":"VLOOKUP(F13,'Group Stage'!$A$2:$B$33,2,FALSE)","v":" "},1,null,null,null,null,{"$f":"IF(AND(H13=0,H14=0),\" \",IF(H13>H14,G13,G14))","v":" "},2,null,null,null,null,null,null,null,{"$f":"IF(AND(T9=0,T10=0),\" \",IF(T9>T10,S9,S10))","v":" "},1]
[null,null,null,null,null,"D1",{"$f":"VLOOKUP(F14,'Group Stage'!$A$2:$B$33,2,FALSE)","v":" "},2,null,null,null,null,null,null,null,null,null,null,null,null,null,{"$f":"IF(AND(T21=0,T22=0),\" \",IF(T21>T22,S21,S22))","v":" "},3,null,{"$f":"IF(AND(W13=0,W14=0),\" \",IF(W13>W14,V13,V14))","v":" "}]
[]
[null,null,"LB R1 Bo1",null,null,null,"LB R2 Bo3",null,null,"LB R3 Bo3",null,null,"LB R4 Bo3",null,null,"LB R5 Bo3",null,null,"LB Finals Bo3"]
[]
[null,null,null,null,null,null,"Loser of",3,null,null,null,null,"Loser of",6]
[null,null,null,null,null,null,{"$f":"IF(H18=0,\" \",IF(H18=1,IF(AND($H$4=0,$H$5=0),\" \",IF($H$4>$H$5,$G$5,$G$4)),IF(H18=2,IF(AND($H$7=0,$H$8=0),\" \",IF($H$7>$H$8,$G$8,$G$7)),IF(H18=3,IF(AND($H$10=0,$H$11=0),\" \",IF($H$10>$H$11,$G$11,$G$10)),IF(AND($H$13=0,$H$14=0),\" \",IF($H$13>$H$14,$G$14,$G$13))))))","v":" "},2,null,null,null,null,{"$f":"IF(N18=0,\" \",IF(N18=6,IF(AND($N$12=0,$N$13=0),\" \",IF($N$12>$N$13,$M$13,$M$12)),IF(AND($N$6=0,$N$7=0),\" \",IF($N$6>$N$7,$M$7,$M$6))))","v":" "},0]
[null,"A3",{"$f":"VLOOKUP(B20,'Group Stage'!$A$2:$B$33,2,FALSE)","v":" "},0,null,null,{"$f":"IF(AND(D20=0,D21=0),\" \",IF(D20>D21,C20,C21))","v":" "},0,null,{"$f":"IF(AND(H19=0,H20=0),\" \",IF(H19>H20,G19,G20))","v":" "},0,null,{"$f":"IF(AND(K20=0,K21=0),\" \",IF(K20>K21,J20,J21))","v":" "},2,null,null,null,null,"Loser of 7"]
[null,"B4",{"$f":"VLOOKUP(B21,'Group Stage'!$A$2:$B$33,2,FALSE)","v":" "},1,null,null,"Loser of",2,null,{"$f":"IF(AND(H22=0,H23=0),\" \",IF(H22>H23,G22,G23))","v":" "},2,null,null,null,null,null,null,null,{"$f":"IF(AND(T9=0,T10=0),\" \",IF(T9>T10,S10,S9))","v":" "},0]
[null,null,null,null,null,null,{"$f":"IF(H21=0,\" \",IF(H21=1,IF(AND($H$4=0,$H$5=0),\" \",IF($H$4>$H$5,$G$5,$G$4)),IF(H21=2,IF(AND($H$7=0,$H$8=0),\" \",IF($H$7>$H$8,$G$8,$G$7)),IF(H21=3,IF(AND($H$10=0,$H$11=0),\" \",IF($H$10>$H$11,$G$11,$G$10)),IF(AND($H$13=0,$H$14=0),\" \",IF($H$13>$H$14,$G$14,$G$13))))))","v":" "},2,null,null,null,null,null,null,null,{"$f":"IF(AND(N19=0,N20=0),\" \",IF(N19>N20,M19,M20))","v":" "},1,null,{"$f":"IF(AND(Q22=0,Q23=0),\" \",IF(Q22>Q23,P22,P23))","v":" "},2]
[null,"A4",{"$f":"VLOOKUP(B23,'Group Stage'!$A$2:$B$33,2,FALSE)","v":" "},1,null,null,{"$f":"IF(AND(D23=0,D24=0),\" \",IF(D23>D24,C23,C24))","v":" "},0,null,null,null,null,null,null,null,{"$f":"IF(AND(N25=0,N26=0),\" \",IF(N25>N26,M25,M26))","v":" "},2]
[null,"B3",{"$f":"VLOOKUP(B24,'Group Stage'!$A$2:$B$33,2,FALSE)","v":" "},0,null,null,"Loser of",1,null,null,null,null,"Loser of",5]
[null,null,null,null,null,null,{"$f":"IF(H24=0,\" \",IF(H24=1,IF(AND($H$4=0,$H$5=0),\" \",IF($H$4>$H$5,$G$5,$G$4)),IF(H24=2,IF(AND($H$7=0,$H$8=0),\" \",IF($H$7>$H$8,$G$8,$G$7)),IF(H24=3,IF(AND($H$10=0,$H$11=0),\" \",IF($H$10>$H$11,$G$11,$G$10)),IF(AND($H$13=0,$H$14=0),\" \",IF($H$13>$H$14,$G$14,$G$13))))))","v":" "},1,null,null,null,null,{"$f":"IF(N24=0,\" \",IF(N24=6,IF(AND($N$12=0,$N$13=0),\" \",IF($N$12>$N$13,$M$13,$M$12)),IF(AND($N$6=0,$N$7=0),\" \",IF($N$6>$N$7,$M$7,$M$6))))","v":" "},1]
[null,"C3",{"$f":"VLOOKUP(B26,'Group Stage'!$A$2:$B$33,2,FALSE)","v":" "},0,null,null,{"$f":"IF(AND(D26=0,D27=0),\" \",IF(D26>D27,C26,C27))","v":" "},2,null,{"$f":"IF(AND(H25=0,H26=0),\" \",IF(H25>H26,G25,G26))","v":" "},1,null,{"$f":"IF(AND(K26=0,K27=0),\" \",IF(K26>K27,J26,J27))","v":" "},2]
[null,"D4",{"$f":"VLOOKUP(B27,'Group Stage'!$A$2:$B$33,2,FALSE)","v":" "},1,null,null,"Loser of",4,null,{"$f":"IF(AND(H28=0,H29=0),\" \",IF(H28>H29,G28,G29))","v":" "},2]
[null,null,null,null,null,null,{"$f":"IF(H27=0,\" \",IF(H27=1,IF(AND($H$4=0,$H$5=0),\" \",IF($H$4>$H$5,$G$5,$G$4)),IF(H27=2,IF(AND($H$7=0,$H$8=0),\" \",IF($H$7>$H$8,$G$8,$G$7)),IF(H27=3,IF(AND($H$10=0,$H$11=0),\" \",IF($H$10>$H$11,$G$11,$G$10)),IF(AND($H$13=0,$H$14=0),\" \",IF($H$13>$H$14,$G$14,$G$13))))))","v":" "},0]
[null,"C4",{"$f":"VLOOKUP(B29,'Group Stage'!$A$2:$B$33,2,FALSE)","v":" "},0,null,null,{"$f":"IF(AND(D29=0,D30=0),\" \",IF(D29>D30,C29,C30))","v":" "},2]
[null,"D3",{"$f":"VLOOKUP(B30,'Group Stage'!$A$2:$B$33,2,FALSE)","v":" "},1,null,null,null,null,null,null,null,null,null,null,null,"Standings"]
[null,null,null,null,null,null,null,null,null,null,null,null,null,null,"1st",{"$f":"Y14","v":" "}]
[null,null,null,null,null,null,null,null,null,null,null,null,null,null,"2nd",{"$f":"IF(V13=Y14,V14,V13)","v":" "}]
[null,null,null,null,null,null,null,null,null,null,null,null,null,null,"3rd",{"$f":"IF(T21>T22,S22,S21)","v":" "}]
[null,null,null,null,null,null,null,null,null,null,null,null,null,null,"4th",{"$f":"IF(Q22>Q23,P23,P22)","v":" "}]
[null,null,null,null,null,null,null,null,null,null,null,null,null,null,"5th-6th",{"$f":"IF(N19>N20,M20,M19)","v":" "}]
[null,null,null,null,null,null,null,null,null,null,null,null,null,null,"5th-6th",{"$f":"IF(N25>N26,M26,M25)","v":" "}]
[null,null,null,null,null,null,null,null,null,null,null,null,null,null,"7th-8th",{"$f":"IF(K20>K21,J21,J20)","v":" "}]
[null,null,null,null,null,null,null,null,null,null,null,null,null,null,"7th-8th",{"$f":"IF(K26>K27,J27,J26)","v":" "}]
[null,null,null,null,null,null,null,null,null,null,null,null,null,null,"9th-12th",{"$f":"IF(H19>H20,G20,G19)","v":" "}]
[null,null,null,null,null,null,null,null,null,null,null,null,null,null,"9th-12th",{"$f":"IF(H22>H23,G23,G22)","v":" "}]
[null,null,null,null,null,null,null,null,null,null,null,null,null,null,"9th-12th",{"$f":"IF(H25>H26,G26,G25)","v":" "}]
[null,null,null,null,null,null,null,null,null,null,null,null,null,null,"9th-12th",{"$f":"IF(H28>H29,G29,G28)","v":" "}]
[null,null,null,null,null,null,null,null,null,null,null,null,null,null,"13th-16th",{"$f":"IF(D20>D21,C21,C20)","v":" "}]
[null,null,null,null,null,null,null,null,null,null,null,null,null,null,"13th-16th",{"$f":"IF(D23>D24,C24,C23)","v":" "}]
[null,null,null,null,null,null,null,null,null,null,null,null,null,null,"13th-16th",{"$f":"IF(D26>D27,C27,C26)","v":" "}]
[null,null,null,null,null,null,null,null,null,null,null,null,null,null,"13th-16th",{"$f":"IF(D29>D30,C30,C29)","v":" "}]